BEGIN:VCALENDAR
VERSION:2.0
PRODID:-//Cabbagetown Art Center - ECPv6.15.20//NONSGML v1.0//EN
CALSCALE:GREGORIAN
METHOD:PUBLISH
X-ORIGINAL-URL:https://cabbagetownarts.com
X-WR-CALDESC:Events for Cabbagetown Art Center
REFRESH-INTERVAL;VALUE=DURATION:PT1H
X-Robots-Tag:noindex
X-PUBLISHED-TTL:PT1H
BEGIN:VTIMEZONE
TZID:America/New_York
BEGIN:DAYLIGHT
TZOFFSETFROM:-0500
TZOFFSETTO:-0400
TZNAME:EDT
DTSTART:20250309T070000
END:DAYLIGHT
BEGIN:STANDARD
TZOFFSETFROM:-0400
TZOFFSETTO:-0500
TZNAME:EST
DTSTART:20251102T060000
END:STANDARD
BEGIN:DAYLIGHT
TZOFFSETFROM:-0500
TZOFFSETTO:-0400
TZNAME:EDT
DTSTART:20260308T070000
END:DAYLIGHT
BEGIN:STANDARD
TZOFFSETFROM:-0400
TZOFFSETTO:-0500
TZNAME:EST
DTSTART:20261101T060000
END:STANDARD
BEGIN:DAYLIGHT
TZOFFSETFROM:-0500
TZOFFSETTO:-0400
TZNAME:EDT
DTSTART:20270314T070000
END:DAYLIGHT
BEGIN:STANDARD
TZOFFSETFROM:-0400
TZOFFSETTO:-0500
TZNAME:EST
DTSTART:20271107T060000
END:STANDARD
END:VTIMEZONE
BEGIN:VEVENT
DTSTART;TZID=America/New_York:20260325T183000
DTEND;TZID=America/New_York:20260325T200000
DTSTAMP:20260419T211353
CREATED:20260105T032722Z
LAST-MODIFIED:20260109T034521Z
UID:10001869-1774463400-1774468800@cabbagetownarts.com
SUMMARY:LGBTQIA+ Group
DESCRIPTION:Come join our LGBTQIA+ Art Therapy Group to create connections\, support one another\, and share our successes\, resources\, challenges\, and joys being a part of the community. \nSessions contain check-ins at the beginning and end of the session\, time for discussion\, and time to respond to an art therapy directive relevant to discussions presented during the session. All sessions are moderated to promote equal opportunity to share\, respectfulness\, mindfulness\, and confidentiality. \nOffered the 4th Wednesday of every month. \nTo register CLICK HERE
URL:https://cabbagetownarts.com/https-cabbagetownarts-com-https-cabbagetownarts-com-events-month/lgbtqia-group-4/2026-03-25/
LOCATION:Cabbagetown Art Center\, 230 Carroll St SE\, Atlanta\, GA\, 30312\, United States
CATEGORIES:Art Therapy Group
ATTACH;FMTTYPE=image/png:https://cabbagetownarts.com/wp-content/uploads/2024/01/All-Are-Welcome.png
ORGANIZER;CN="Kiley":MAILTO:kileyl@cabbagetownarts.com
END:VEVENT
BEGIN:VEVENT
DTSTART;TZID=America/New_York:20260225T183000
DTEND;TZID=America/New_York:20260225T200000
DTSTAMP:20260419T211353
CREATED:20260105T032722Z
LAST-MODIFIED:20260109T034521Z
UID:10001868-1772044200-1772049600@cabbagetownarts.com
SUMMARY:LGBTQIA+ Group
DESCRIPTION:Come join our LGBTQIA+ Art Therapy Group to create connections\, support one another\, and share our successes\, resources\, challenges\, and joys being a part of the community. \nSessions contain check-ins at the beginning and end of the session\, time for discussion\, and time to respond to an art therapy directive relevant to discussions presented during the session. All sessions are moderated to promote equal opportunity to share\, respectfulness\, mindfulness\, and confidentiality. \nOffered the 4th Wednesday of every month. \nTo register CLICK HERE
URL:https://cabbagetownarts.com/https-cabbagetownarts-com-https-cabbagetownarts-com-events-month/lgbtqia-group-4/2026-02-25/
LOCATION:Cabbagetown Art Center\, 230 Carroll St SE\, Atlanta\, GA\, 30312\, United States
CATEGORIES:Art Therapy Group
ATTACH;FMTTYPE=image/png:https://cabbagetownarts.com/wp-content/uploads/2024/01/All-Are-Welcome.png
ORGANIZER;CN="Kiley":MAILTO:kileyl@cabbagetownarts.com
END:VEVENT
BEGIN:VEVENT
DTSTART;TZID=America/New_York:20260128T183000
DTEND;TZID=America/New_York:20260128T200000
DTSTAMP:20260419T211353
CREATED:20260105T032722Z
LAST-MODIFIED:20260109T034521Z
UID:10001867-1769625000-1769630400@cabbagetownarts.com
SUMMARY:LGBTQIA+ Group
DESCRIPTION:Come join our LGBTQIA+ Art Therapy Group to create connections\, support one another\, and share our successes\, resources\, challenges\, and joys being a part of the community. \nSessions contain check-ins at the beginning and end of the session\, time for discussion\, and time to respond to an art therapy directive relevant to discussions presented during the session. All sessions are moderated to promote equal opportunity to share\, respectfulness\, mindfulness\, and confidentiality. \nOffered the 4th Wednesday of every month. \nTo register CLICK HERE
URL:https://cabbagetownarts.com/https-cabbagetownarts-com-https-cabbagetownarts-com-events-month/lgbtqia-group-4/2026-01-28/
LOCATION:Cabbagetown Art Center\, 230 Carroll St SE\, Atlanta\, GA\, 30312\, United States
CATEGORIES:Art Therapy Group
ATTACH;FMTTYPE=image/png:https://cabbagetownarts.com/wp-content/uploads/2024/01/All-Are-Welcome.png
ORGANIZER;CN="Kiley":MAILTO:kileyl@cabbagetownarts.com
END:VEVENT
END:VCALENDAR